BEGIN:VCALENDAR
VERSION:2.0
PRODID:-//Alton Village Hall - ECPv6.15.20//NONSGML v1.0//EN
CALSCALE:GREGORIAN
METHOD:PUBLISH
X-WR-CALNAME:Alton Village Hall
X-ORIGINAL-URL:https://altonvillagehall.org.uk
X-WR-CALDESC:Events for Alton Village Hall
REFRESH-INTERVAL;VALUE=DURATION:PT1H
X-Robots-Tag:noindex
X-PUBLISHED-TTL:PT1H
BEGIN:VTIMEZONE
TZID:UTC
BEGIN:STANDARD
TZOFFSETFROM:+0000
TZOFFSETTO:+0000
TZNAME:UTC
DTSTART:20240101T000000
END:STANDARD
END:VTIMEZONE
BEGIN:VEVENT
DTSTART;TZID=UTC:20250311T130000
DTEND;TZID=UTC:20250311T150000
DTSTAMP:20260425T134123
CREATED:20250228T093048Z
LAST-MODIFIED:20250228T093048Z
UID:291-1741698000-1741705200@altonvillagehall.org.uk
SUMMARY:Toddlers
DESCRIPTION:£4 per Child £1 for a second child
URL:https://altonvillagehall.org.uk/event/toddlers-7/
END:VEVENT
BEGIN:VEVENT
DTSTART;TZID=UTC:20250310T180000
DTEND;TZID=UTC:20250310T190000
DTSTAMP:20260425T134123
CREATED:20250228T091656Z
LAST-MODIFIED:20250228T091656Z
UID:277-1741629600-1741633200@altonvillagehall.org.uk
SUMMARY:Yoga
DESCRIPTION:
URL:https://altonvillagehall.org.uk/event/yoga-7/
END:VEVENT
BEGIN:VEVENT
DTSTART;TZID=UTC:20250307T193000
DTEND;TZID=UTC:20250307T223000
DTSTAMP:20260425T134123
CREATED:20250109T125519Z
LAST-MODIFIED:20250109T125519Z
UID:150-1741375800-1741386600@altonvillagehall.org.uk
SUMMARY:Simon & Garfunkel Live Tribute
DESCRIPTION:Back by popular demand\, following a successful evening last spring.
URL:https://altonvillagehall.org.uk/event/simon-garfunkel-live-tribute/
LOCATION:Alton Village Hall\, Alton
END:VEVENT
BEGIN:VEVENT
DTSTART;TZID=UTC:20250306T180000
DTEND;TZID=UTC:20250306T193000
DTSTAMP:20260425T134123
CREATED:20250302T160054Z
LAST-MODIFIED:20250302T160054Z
UID:350-1741284000-1741289400@altonvillagehall.org.uk
SUMMARY:Brownies
DESCRIPTION:
URL:https://altonvillagehall.org.uk/event/brownies-5/
END:VEVENT
BEGIN:VEVENT
DTSTART;TZID=UTC:20250306T160000
DTEND;TZID=UTC:20250306T170000
DTSTAMP:20260425T134123
CREATED:20250302T155843Z
LAST-MODIFIED:20250302T155843Z
UID:348-1741276800-1741280400@altonvillagehall.org.uk
SUMMARY:Rainbows
DESCRIPTION:
URL:https://altonvillagehall.org.uk/event/rainbows-9/
END:VEVENT
BEGIN:VEVENT
DTSTART;TZID=UTC:20250305T093000
DTEND;TZID=UTC:20250305T103000
DTSTAMP:20260425T134123
CREATED:20250228T101825Z
LAST-MODIFIED:20250228T101825Z
UID:306-1741167000-1741170600@altonvillagehall.org.uk
SUMMARY:Soccer Lions
DESCRIPTION:12 months to 6 years \n£6 or £62 for 12 weeks \nTo book a place call 07747867745
URL:https://altonvillagehall.org.uk/event/soccer-lions/
END:VEVENT
BEGIN:VEVENT
DTSTART;TZID=UTC:20250304T170000
DTEND;TZID=UTC:20250304T210000
DTSTAMP:20260425T134123
CREATED:20250228T095916Z
LAST-MODIFIED:20250228T095916Z
UID:298-1741107600-1741122000@altonvillagehall.org.uk
SUMMARY:Scouts
DESCRIPTION:
URL:https://altonvillagehall.org.uk/event/scouts-8/
END:VEVENT
BEGIN:VEVENT
DTSTART;TZID=UTC:20250304T130000
DTEND;TZID=UTC:20250304T150000
DTSTAMP:20260425T134123
CREATED:20250228T092620Z
LAST-MODIFIED:20250228T093658Z
UID:289-1741093200-1741100400@altonvillagehall.org.uk
SUMMARY:Toddlers
DESCRIPTION:£4 per Child £1 for a second child
URL:https://altonvillagehall.org.uk/event/toddlers-6/
END:VEVENT
BEGIN:VEVENT
DTSTART;TZID=UTC:20250303T180000
DTEND;TZID=UTC:20250303T190000
DTSTAMP:20260425T134123
CREATED:20250228T091941Z
LAST-MODIFIED:20250228T091941Z
UID:280-1741024800-1741028400@altonvillagehall.org.uk
SUMMARY:Yoga
DESCRIPTION:
URL:https://altonvillagehall.org.uk/event/yoga-8/
END:VEVENT
BEGIN:VEVENT
DTSTART;TZID=UTC:20250227T180000
DTEND;TZID=UTC:20250227T193000
DTSTAMP:20260425T134123
CREATED:20250126T132314Z
LAST-MODIFIED:20250126T132314Z
UID:253-1740679200-1740684600@altonvillagehall.org.uk
SUMMARY:Brownies
DESCRIPTION:
URL:https://altonvillagehall.org.uk/event/brownies-4/
END:VEVENT
BEGIN:VEVENT
DTSTART;TZID=UTC:20250227T160000
DTEND;TZID=UTC:20250227T170000
DTSTAMP:20260425T134123
CREATED:20250126T131530Z
LAST-MODIFIED:20250126T131530Z
UID:245-1740672000-1740675600@altonvillagehall.org.uk
SUMMARY:Rainbows
DESCRIPTION:
URL:https://altonvillagehall.org.uk/event/rainbows-5/
END:VEVENT
BEGIN:VEVENT
DTSTART;TZID=UTC:20250225T170000
DTEND;TZID=UTC:20250225T200000
DTSTAMP:20260425T134123
CREATED:20250112T132544Z
LAST-MODIFIED:20250112T132544Z
UID:217-1740502800-1740513600@altonvillagehall.org.uk
SUMMARY:Scouts
DESCRIPTION:
URL:https://altonvillagehall.org.uk/event/scouts-6/
END:VEVENT
BEGIN:VEVENT
DTSTART;TZID=UTC:20250225T130000
DTEND;TZID=UTC:20250225T150000
DTSTAMP:20260425T134123
CREATED:20250112T132219Z
LAST-MODIFIED:20250112T132219Z
UID:211-1740488400-1740495600@altonvillagehall.org.uk
SUMMARY:Toddlers
DESCRIPTION:£4 per Child \n£1 for a second child
URL:https://altonvillagehall.org.uk/event/toddlers-5/
END:VEVENT
BEGIN:VEVENT
DTSTART;TZID=UTC:20250224T180000
DTEND;TZID=UTC:20250224T190000
DTSTAMP:20260425T134123
CREATED:20250112T131635Z
LAST-MODIFIED:20250112T131635Z
UID:205-1740420000-1740423600@altonvillagehall.org.uk
SUMMARY:Yoga
DESCRIPTION:with Karen Hicks
URL:https://altonvillagehall.org.uk/event/yoga-6/
END:VEVENT
BEGIN:VEVENT
DTSTART;TZID=UTC:20250217T180000
DTEND;TZID=UTC:20250217T190000
DTSTAMP:20260425T134123
CREATED:20250112T131436Z
LAST-MODIFIED:20250112T131436Z
UID:203-1739815200-1739818800@altonvillagehall.org.uk
SUMMARY:Yoga
DESCRIPTION:with Karen Hicks
URL:https://altonvillagehall.org.uk/event/yoga-5/
END:VEVENT
BEGIN:VEVENT
DTSTART;TZID=UTC:20250213T180000
DTEND;TZID=UTC:20250213T193000
DTSTAMP:20260425T134123
CREATED:20250126T132152Z
LAST-MODIFIED:20250126T132152Z
UID:251-1739469600-1739475000@altonvillagehall.org.uk
SUMMARY:Brownies
DESCRIPTION:
URL:https://altonvillagehall.org.uk/event/brownies-3/
END:VEVENT
BEGIN:VEVENT
DTSTART;TZID=UTC:20250213T160000
DTEND;TZID=UTC:20250220T170000
DTSTAMP:20260425T134123
CREATED:20250213T000112Z
LAST-MODIFIED:20250126T131229Z
UID:237-1739462400-1740070800@altonvillagehall.org.uk
SUMMARY:Rainbows
DESCRIPTION:
URL:https://altonvillagehall.org.uk/event/rainbows/
END:VEVENT
BEGIN:VEVENT
DTSTART;TZID=UTC:20250213T160000
DTEND;TZID=UTC:20250213T170000
DTSTAMP:20260425T134123
CREATED:20250126T131356Z
LAST-MODIFIED:20250126T131356Z
UID:243-1739462400-1739466000@altonvillagehall.org.uk
SUMMARY:Rainbows
DESCRIPTION:
URL:https://altonvillagehall.org.uk/event/rainbows-4/
END:VEVENT
BEGIN:VEVENT
DTSTART;TZID=UTC:20250212T180000
DTEND;TZID=UTC:20250212T200000
DTSTAMP:20260425T134123
CREATED:20250112T133157Z
LAST-MODIFIED:20250112T133157Z
UID:225-1739383200-1739390400@altonvillagehall.org.uk
SUMMARY:Alton Hand Bell Ringers
DESCRIPTION:
URL:https://altonvillagehall.org.uk/event/alton-hand-bell-ringers-2/
END:VEVENT
BEGIN:VEVENT
DTSTART;TZID=UTC:20250211T170000
DTEND;TZID=UTC:20250211T200000
DTSTAMP:20260425T134123
CREATED:20250112T132436Z
LAST-MODIFIED:20250112T132436Z
UID:215-1739293200-1739304000@altonvillagehall.org.uk
SUMMARY:Scouts
DESCRIPTION:
URL:https://altonvillagehall.org.uk/event/scouts-5/
END:VEVENT
BEGIN:VEVENT
DTSTART;TZID=UTC:20250211T130000
DTEND;TZID=UTC:20250211T150000
DTSTAMP:20260425T134123
CREATED:20250112T132101Z
LAST-MODIFIED:20250112T132101Z
UID:209-1739278800-1739286000@altonvillagehall.org.uk
SUMMARY:Toddlers
DESCRIPTION:£4 per Child \n£1 for a second child
URL:https://altonvillagehall.org.uk/event/toddlers-4/
END:VEVENT
BEGIN:VEVENT
DTSTART;TZID=UTC:20250210T180000
DTEND;TZID=UTC:20250210T190000
DTSTAMP:20260425T134123
CREATED:20250112T131312Z
LAST-MODIFIED:20250112T131312Z
UID:201-1739210400-1739214000@altonvillagehall.org.uk
SUMMARY:Yoga
DESCRIPTION:with Karen Hicks
URL:https://altonvillagehall.org.uk/event/yoga-4/
END:VEVENT
BEGIN:VEVENT
DTSTART;TZID=UTC:20250208T093000
DTEND;TZID=UTC:20250208T153000
DTSTAMP:20260425T134123
CREATED:20250126T132441Z
LAST-MODIFIED:20250126T132441Z
UID:255-1739007000-1739028600@altonvillagehall.org.uk
SUMMARY:Scouts
DESCRIPTION:
URL:https://altonvillagehall.org.uk/event/scouts-7/
END:VEVENT
BEGIN:VEVENT
DTSTART;TZID=UTC:20250206T180000
DTEND;TZID=UTC:20250206T193000
DTSTAMP:20260425T134123
CREATED:20250126T132020Z
LAST-MODIFIED:20250126T132020Z
UID:249-1738864800-1738870200@altonvillagehall.org.uk
SUMMARY:Brownies
DESCRIPTION:
URL:https://altonvillagehall.org.uk/event/brownies-2/
END:VEVENT
BEGIN:VEVENT
DTSTART;TZID=UTC:20250206T160000
DTEND;TZID=UTC:20250206T170000
DTSTAMP:20260425T134123
CREATED:20250126T130625Z
LAST-MODIFIED:20250126T130625Z
UID:241-1738857600-1738861200@altonvillagehall.org.uk
SUMMARY:Rainbows
DESCRIPTION:
URL:https://altonvillagehall.org.uk/event/rainbows-3/
END:VEVENT
BEGIN:VEVENT
DTSTART;TZID=UTC:20250205T190000
DTEND;TZID=UTC:20250205T210000
DTSTAMP:20260425T134123
CREATED:20250112T132900Z
LAST-MODIFIED:20250112T132900Z
UID:221-1738782000-1738789200@altonvillagehall.org.uk
SUMMARY:Parish Council Meeting
DESCRIPTION:
URL:https://altonvillagehall.org.uk/event/parish-council-meeting/
END:VEVENT
BEGIN:VEVENT
DTSTART;TZID=UTC:20250205T180000
DTEND;TZID=UTC:20250205T200000
DTSTAMP:20260425T134123
CREATED:20250112T133103Z
LAST-MODIFIED:20250112T133103Z
UID:223-1738778400-1738785600@altonvillagehall.org.uk
SUMMARY:Alton Hand Bell Ringers
DESCRIPTION:
URL:https://altonvillagehall.org.uk/event/alton-hand-bell-ringers/
END:VEVENT
BEGIN:VEVENT
DTSTART;TZID=UTC:20250205T140000
DTEND;TZID=UTC:20250205T160000
DTSTAMP:20260425T134123
CREATED:20250112T132717Z
LAST-MODIFIED:20250112T132717Z
UID:219-1738764000-1738771200@altonvillagehall.org.uk
SUMMARY:Alton W I
DESCRIPTION:
URL:https://altonvillagehall.org.uk/event/alton-w-i/
END:VEVENT
BEGIN:VEVENT
DTSTART;TZID=UTC:20250204T170000
DTEND;TZID=UTC:20250204T200000
DTSTAMP:20260425T134123
CREATED:20250112T132338Z
LAST-MODIFIED:20250112T132338Z
UID:213-1738688400-1738699200@altonvillagehall.org.uk
SUMMARY:Scouts
DESCRIPTION:
URL:https://altonvillagehall.org.uk/event/scouts-4/
END:VEVENT
BEGIN:VEVENT
DTSTART;TZID=UTC:20250204T130000
DTEND;TZID=UTC:20250204T150000
DTSTAMP:20260425T134123
CREATED:20250112T131944Z
LAST-MODIFIED:20250112T131944Z
UID:207-1738674000-1738681200@altonvillagehall.org.uk
SUMMARY:Toddlers
DESCRIPTION:£4 per Child \n£1 for a second child
URL:https://altonvillagehall.org.uk/event/toddlers-3/
END:VEVENT
END:VCALENDAR