BEGIN:VCALENDAR
VERSION:2.0
PRODID:-//Alton Village Hall - ECPv6.15.20//NONSGML v1.0//EN
CALSCALE:GREGORIAN
METHOD:PUBLISH
X-WR-CALNAME:Alton Village Hall
X-ORIGINAL-URL:https://altonvillagehall.org.uk
X-WR-CALDESC:Events for Alton Village Hall
REFRESH-INTERVAL;VALUE=DURATION:PT1H
X-Robots-Tag:noindex
X-PUBLISHED-TTL:PT1H
BEGIN:VTIMEZONE
TZID:UTC
BEGIN:STANDARD
TZOFFSETFROM:+0000
TZOFFSETTO:+0000
TZNAME:UTC
DTSTART:20240101T000000
END:STANDARD
END:VTIMEZONE
BEGIN:VEVENT
DTSTART;TZID=UTC:20250507T093000
DTEND;TZID=UTC:20250507T103000
DTSTAMP:20260423T013624
CREATED:20250429T191340Z
LAST-MODIFIED:20250429T191340Z
UID:760-1746610200-1746613800@altonvillagehall.org.uk
SUMMARY:Soccer Lions
DESCRIPTION:
URL:https://altonvillagehall.org.uk/event/soccer-lions-8/
LOCATION:Alton Village Hall\, Alton
END:VEVENT
BEGIN:VEVENT
DTSTART;TZID=UTC:20250506T170000
DTEND;TZID=UTC:20250506T210000
DTSTAMP:20260423T013624
CREATED:20250329T221049Z
LAST-MODIFIED:20250329T221049Z
UID:542-1746550800-1746565200@altonvillagehall.org.uk
SUMMARY:Scouts
DESCRIPTION:
URL:https://altonvillagehall.org.uk/event/scouts-14/
END:VEVENT
BEGIN:VEVENT
DTSTART;TZID=UTC:20250506T130000
DTEND;TZID=UTC:20250506T150000
DTSTAMP:20260423T013624
CREATED:20250329T215129Z
LAST-MODIFIED:20250329T215130Z
UID:536-1746536400-1746543600@altonvillagehall.org.uk
SUMMARY:Toddlers
DESCRIPTION:£4 per Child £1 for a second child
URL:https://altonvillagehall.org.uk/event/toddlers-12/
END:VEVENT
BEGIN:VEVENT
DTSTART;TZID=UTC:20250505T100000
DTEND;TZID=UTC:20250505T130000
DTSTAMP:20260423T013624
CREATED:20250228T105921Z
LAST-MODIFIED:20250228T105921Z
UID:322-1746439200-1746450000@altonvillagehall.org.uk
SUMMARY:Private Event
DESCRIPTION:
URL:https://altonvillagehall.org.uk/event/private-event-5/
END:VEVENT
BEGIN:VEVENT
DTSTART;TZID=UTC:20250501T060000
DTEND;TZID=UTC:20250501T223000
DTSTAMP:20260423T013624
CREATED:20250228T110246Z
LAST-MODIFIED:20250228T110246Z
UID:324-1746079200-1746138600@altonvillagehall.org.uk
SUMMARY:County Council Elections
DESCRIPTION:
URL:https://altonvillagehall.org.uk/event/county-council-elections/
END:VEVENT
BEGIN:VEVENT
DTSTART;TZID=UTC:20250430T180000
DTEND;TZID=UTC:20250430T200000
DTSTAMP:20260423T013624
CREATED:20250320T153531Z
LAST-MODIFIED:20250320T153531Z
UID:481-1746036000-1746043200@altonvillagehall.org.uk
SUMMARY:Alton Handbell Ringers
DESCRIPTION:
URL:https://altonvillagehall.org.uk/event/alton-handbell-ringers-10/
END:VEVENT
BEGIN:VEVENT
DTSTART;TZID=UTC:20250430T093000
DTEND;TZID=UTC:20250430T103000
DTSTAMP:20260423T013624
CREATED:20250429T152727Z
LAST-MODIFIED:20250429T152727Z
UID:757-1746005400-1746009000@altonvillagehall.org.uk
SUMMARY:Soccer Lions
DESCRIPTION:£6 per child.
URL:https://altonvillagehall.org.uk/event/soccer-lions-7/
LOCATION:Alton Village Hall\, Alton
END:VEVENT
BEGIN:VEVENT
DTSTART;TZID=UTC:20250429T170000
DTEND;TZID=UTC:20250429T210000
DTSTAMP:20260423T013624
CREATED:20250319T212734Z
LAST-MODIFIED:20250319T212734Z
UID:462-1745946000-1745960400@altonvillagehall.org.uk
SUMMARY:Scouts
DESCRIPTION:
URL:https://altonvillagehall.org.uk/event/scouts-15/
END:VEVENT
BEGIN:VEVENT
DTSTART;TZID=UTC:20250429T130000
DTEND;TZID=UTC:20250429T150000
DTSTAMP:20260423T013624
CREATED:20250319T211443Z
LAST-MODIFIED:20250319T211443Z
UID:447-1745931600-1745938800@altonvillagehall.org.uk
SUMMARY:Toddlers
DESCRIPTION:£4 per Child £1 for a second child
URL:https://altonvillagehall.org.uk/event/toddlers-13/
END:VEVENT
BEGIN:VEVENT
DTSTART;TZID=UTC:20250428T183000
DTEND;TZID=UTC:20250428T194500
DTSTAMP:20260423T013624
CREATED:20250407T101918Z
LAST-MODIFIED:20250407T101918Z
UID:617-1745865000-1745869500@altonvillagehall.org.uk
SUMMARY:Yoga
DESCRIPTION:
URL:https://altonvillagehall.org.uk/event/yoga-13/
LOCATION:Alton Village Hall\, Alton
ORGANIZER;CN="Karen Nicks":MAILTO:karennicks@googlemail.com
END:VEVENT
BEGIN:VEVENT
DTSTART;TZID=UTC:20250426T110000
DTEND;TZID=UTC:20250426T140000
DTSTAMP:20260423T013624
CREATED:20250421T084611Z
LAST-MODIFIED:20250426T074102Z
UID:709-1745665200-1745676000@altonvillagehall.org.uk
SUMMARY:Jodie Heath
DESCRIPTION:Jodie Heath
URL:https://altonvillagehall.org.uk/event/jodie-heath/
LOCATION:Alton Village Hall\, Alton
END:VEVENT
BEGIN:VEVENT
DTSTART;TZID=UTC:20250423T180000
DTEND;TZID=UTC:20250423T200000
DTSTAMP:20260423T013624
CREATED:20250320T153444Z
LAST-MODIFIED:20250320T153444Z
UID:479-1745431200-1745438400@altonvillagehall.org.uk
SUMMARY:Alton Handbell Ringers
DESCRIPTION:
URL:https://altonvillagehall.org.uk/event/alton-handbell-ringers-9/
END:VEVENT
BEGIN:VEVENT
DTSTART;TZID=UTC:20250419T120000
DTEND;TZID=UTC:20250419T170000
DTSTAMP:20260423T013624
CREATED:20250319T193938Z
LAST-MODIFIED:20250320T152815Z
UID:436-1745064000-1745082000@altonvillagehall.org.uk
SUMMARY:Alton Pensioners Event
DESCRIPTION:
URL:https://altonvillagehall.org.uk/event/alton-pensioners-event/
END:VEVENT
BEGIN:VEVENT
DTSTART;TZID=UTC:20250416T180000
DTEND;TZID=UTC:20250416T200000
DTSTAMP:20260423T013624
CREATED:20250403T135800Z
LAST-MODIFIED:20250403T135800Z
UID:560-1744826400-1744833600@altonvillagehall.org.uk
SUMMARY:Alton Handbell Ringers
DESCRIPTION:
URL:https://altonvillagehall.org.uk/event/alton-handbell-ringers-8/
END:VEVENT
BEGIN:VEVENT
DTSTART;TZID=UTC:20250412T180000
DTEND;TZID=UTC:20250412T223000
DTSTAMP:20260423T013624
CREATED:20250302T163044Z
LAST-MODIFIED:20250302T163044Z
UID:371-1744480800-1744497000@altonvillagehall.org.uk
SUMMARY:St Peter's Church Bingo
DESCRIPTION:
URL:https://altonvillagehall.org.uk/event/st-peters-church-bingo/
END:VEVENT
BEGIN:VEVENT
DTSTART;TZID=UTC:20250411T200000
DTEND;TZID=UTC:20250412T100000
DTSTAMP:20260423T013624
CREATED:20250228T105727Z
LAST-MODIFIED:20250228T105727Z
UID:320-1744401600-1744452000@altonvillagehall.org.uk
SUMMARY:Scouts Private Event
DESCRIPTION:
URL:https://altonvillagehall.org.uk/event/scouts-private-event/
END:VEVENT
BEGIN:VEVENT
DTSTART;TZID=UTC:20250409T190000
DTEND;TZID=UTC:20250409T210000
DTSTAMP:20260423T013624
CREATED:20250302T162853Z
LAST-MODIFIED:20250302T162853Z
UID:369-1744225200-1744232400@altonvillagehall.org.uk
SUMMARY:Parish Council Meeting
DESCRIPTION:
URL:https://altonvillagehall.org.uk/event/parish-council-meeting-3/
END:VEVENT
BEGIN:VEVENT
DTSTART;TZID=UTC:20250409T093000
DTEND;TZID=UTC:20250409T103000
DTSTAMP:20260423T013624
CREATED:20250302T162611Z
LAST-MODIFIED:20250302T162611Z
UID:365-1744191000-1744194600@altonvillagehall.org.uk
SUMMARY:Soccer Lions
DESCRIPTION:12 months to 6 years \n£6 or £62 for 12 weeks \nTo book a place call 07747867745
URL:https://altonvillagehall.org.uk/event/soccer-lions-6/
END:VEVENT
BEGIN:VEVENT
DTSTART;TZID=UTC:20250408T170000
DTEND;TZID=UTC:20250408T210000
DTSTAMP:20260423T013624
CREATED:20250319T212523Z
LAST-MODIFIED:20250319T212523Z
UID:458-1744131600-1744146000@altonvillagehall.org.uk
SUMMARY:Scouts
DESCRIPTION:
URL:https://altonvillagehall.org.uk/event/scouts-13/
END:VEVENT
BEGIN:VEVENT
DTSTART;TZID=UTC:20250408T130000
DTEND;TZID=UTC:20250408T150000
DTSTAMP:20260423T013624
CREATED:20250319T210854Z
LAST-MODIFIED:20250319T210926Z
UID:440-1744117200-1744124400@altonvillagehall.org.uk
SUMMARY:Toddlers
DESCRIPTION:£4 per Child £1 for a second child
URL:https://altonvillagehall.org.uk/event/toddlers-10/
END:VEVENT
BEGIN:VEVENT
DTSTART;TZID=UTC:20250407T183000
DTEND;TZID=UTC:20250407T194500
DTSTAMP:20260423T013624
CREATED:20250321T072824Z
LAST-MODIFIED:20250321T072824Z
UID:490-1744050600-1744055100@altonvillagehall.org.uk
SUMMARY:Yoga
DESCRIPTION:
URL:https://altonvillagehall.org.uk/event/yoga-12/
END:VEVENT
BEGIN:VEVENT
DTSTART;TZID=UTC:20250403T180000
DTEND;TZID=UTC:20250403T193000
DTSTAMP:20260423T013624
CREATED:20250319T213123Z
LAST-MODIFIED:20250319T213123Z
UID:464-1743703200-1743708600@altonvillagehall.org.uk
SUMMARY:Brownies
DESCRIPTION:
URL:https://altonvillagehall.org.uk/event/brownies-8/
END:VEVENT
BEGIN:VEVENT
DTSTART;TZID=UTC:20250403T164500
DTEND;TZID=UTC:20250403T174500
DTSTAMP:20260423T013624
CREATED:20250318T141441Z
LAST-MODIFIED:20250318T141441Z
UID:417-1743698700-1743702300@altonvillagehall.org.uk
SUMMARY:Rainbows
DESCRIPTION:
URL:https://altonvillagehall.org.uk/event/rainbows-7/
END:VEVENT
BEGIN:VEVENT
DTSTART;TZID=UTC:20250402T180000
DTEND;TZID=UTC:20250402T200000
DTSTAMP:20260423T013624
CREATED:20250320T153309Z
LAST-MODIFIED:20250320T153309Z
UID:475-1743616800-1743624000@altonvillagehall.org.uk
SUMMARY:Alton Handbell Ringers
DESCRIPTION:
URL:https://altonvillagehall.org.uk/event/alton-handbell-ringers-7/
END:VEVENT
BEGIN:VEVENT
DTSTART;TZID=UTC:20250402T140000
DTEND;TZID=UTC:20250402T160000
DTSTAMP:20260423T013624
CREATED:20250302T162721Z
LAST-MODIFIED:20250302T162721Z
UID:367-1743602400-1743609600@altonvillagehall.org.uk
SUMMARY:WI
DESCRIPTION:
URL:https://altonvillagehall.org.uk/event/wi/
END:VEVENT
BEGIN:VEVENT
DTSTART;TZID=UTC:20250402T093000
DTEND;TZID=UTC:20250402T103000
DTSTAMP:20260423T013624
CREATED:20250302T162455Z
LAST-MODIFIED:20250302T162455Z
UID:363-1743586200-1743589800@altonvillagehall.org.uk
SUMMARY:Soccer Lions
DESCRIPTION:12 months to 6 years \n£6 or £62 for 12 weeks \nTo book a place call 07747867745
URL:https://altonvillagehall.org.uk/event/soccer-lions-5/
END:VEVENT
BEGIN:VEVENT
DTSTART;TZID=UTC:20250401T170000
DTEND;TZID=UTC:20250401T210000
DTSTAMP:20260423T013624
CREATED:20250319T212421Z
LAST-MODIFIED:20250319T212421Z
UID:456-1743526800-1743541200@altonvillagehall.org.uk
SUMMARY:Scouts
DESCRIPTION:
URL:https://altonvillagehall.org.uk/event/scouts-12/
END:VEVENT
BEGIN:VEVENT
DTSTART;TZID=UTC:20250401T080000
DTEND;TZID=UTC:20250401T170000
DTSTAMP:20260423T013624
CREATED:20250329T213706Z
LAST-MODIFIED:20250329T213706Z
UID:528-1743494400-1743526800@altonvillagehall.org.uk
SUMMARY:Toddlers
DESCRIPTION:£4 per Child £1 for a second child
URL:https://altonvillagehall.org.uk/event/toddlers-11/
END:VEVENT
BEGIN:VEVENT
DTSTART;TZID=UTC:20250331T183000
DTEND;TZID=UTC:20250331T194500
DTSTAMP:20260423T013624
CREATED:20250321T072252Z
LAST-MODIFIED:20250321T072252Z
UID:488-1743445800-1743450300@altonvillagehall.org.uk
SUMMARY:Yoga
DESCRIPTION:
URL:https://altonvillagehall.org.uk/event/yoga-11/
END:VEVENT
BEGIN:VEVENT
DTSTART;TZID=UTC:20250327T180000
DTEND;TZID=UTC:20250327T200000
DTSTAMP:20260423T013624
CREATED:20250320T153215Z
LAST-MODIFIED:20250320T153215Z
UID:473-1743098400-1743105600@altonvillagehall.org.uk
SUMMARY:Alton Handbell Ringers
DESCRIPTION:
URL:https://altonvillagehall.org.uk/event/alton-handbell-ringers-6/
END:VEVENT
END:VCALENDAR