BEGIN:VCALENDAR
VERSION:2.0
PRODID:-//Alton Village Hall - ECPv6.15.20//NONSGML v1.0//EN
CALSCALE:GREGORIAN
METHOD:PUBLISH
X-WR-CALNAME:Alton Village Hall
X-ORIGINAL-URL:https://altonvillagehall.org.uk
X-WR-CALDESC:Events for Alton Village Hall
REFRESH-INTERVAL;VALUE=DURATION:PT1H
X-Robots-Tag:noindex
X-PUBLISHED-TTL:PT1H
BEGIN:VTIMEZONE
TZID:UTC
BEGIN:STANDARD
TZOFFSETFROM:+0000
TZOFFSETTO:+0000
TZNAME:UTC
DTSTART:20240101T000000
END:STANDARD
END:VTIMEZONE
BEGIN:VEVENT
DTSTART;TZID=UTC:20250703T164500
DTEND;TZID=UTC:20250703T174500
DTSTAMP:20260422T172200
CREATED:20250529T145652Z
LAST-MODIFIED:20250529T145652Z
UID:3177-1751561100-1751564700@altonvillagehall.org.uk
SUMMARY:Alton Rainbows
DESCRIPTION:
URL:https://altonvillagehall.org.uk/event/alton-rainbows-2/
LOCATION:Alton Village Hall\, Alton
ORGANIZER;CN="Linda Goodwin":MAILTO:goodwin.linda@btinternet.com
END:VEVENT
BEGIN:VEVENT
DTSTART;TZID=UTC:20250702T180000
DTEND;TZID=UTC:20250702T200000
DTSTAMP:20260422T172200
CREATED:20250518T205034Z
LAST-MODIFIED:20250518T205034Z
UID:870-1751479200-1751486400@altonvillagehall.org.uk
SUMMARY:Alton Handbell Ringers
DESCRIPTION:
URL:https://altonvillagehall.org.uk/event/alton-handbell-ringers-14/
END:VEVENT
BEGIN:VEVENT
DTSTART;TZID=UTC:20250702T140000
DTEND;TZID=UTC:20250702T160000
DTSTAMP:20260422T172200
CREATED:20250528T150625Z
LAST-MODIFIED:20250528T150625Z
UID:2587-1751464800-1751472000@altonvillagehall.org.uk
SUMMARY:WI
DESCRIPTION:
URL:https://altonvillagehall.org.uk/event/wi-3/
LOCATION:Alton Village Hall\, Alton
END:VEVENT
BEGIN:VEVENT
DTSTART;TZID=UTC:20250702T093000
DTEND;TZID=UTC:20250702T103000
DTSTAMP:20260422T172200
CREATED:20250604T174531Z
LAST-MODIFIED:20250604T174531Z
UID:5827-1751448600-1751452200@altonvillagehall.org.uk
SUMMARY:Soccer Lions
DESCRIPTION:£6 per child
URL:https://altonvillagehall.org.uk/event/soccer-lions-16/
LOCATION:Alton Village Hall\, Alton
END:VEVENT
BEGIN:VEVENT
DTSTART;TZID=UTC:20250701T170000
DTEND;TZID=UTC:20250701T213000
DTSTAMP:20260422T172200
CREATED:20250528T150110Z
LAST-MODIFIED:20250528T150110Z
UID:2577-1751389200-1751405400@altonvillagehall.org.uk
SUMMARY:Scouts
DESCRIPTION:
URL:https://altonvillagehall.org.uk/event/scouts-22/
LOCATION:Alton Village Hall\, Alton
END:VEVENT
BEGIN:VEVENT
DTSTART;TZID=UTC:20250701T130000
DTEND;TZID=UTC:20250701T150000
DTSTAMP:20260422T172200
CREATED:20250528T145333Z
LAST-MODIFIED:20250528T145333Z
UID:2556-1751374800-1751382000@altonvillagehall.org.uk
SUMMARY:Toddlers
DESCRIPTION:
URL:https://altonvillagehall.org.uk/event/toddlers-19/
LOCATION:Alton Village Hall\, Alton
END:VEVENT
BEGIN:VEVENT
DTSTART;TZID=UTC:20250630T183000
DTEND;TZID=UTC:20250630T194500
DTSTAMP:20260422T172200
CREATED:20250518T210751Z
LAST-MODIFIED:20250518T210751Z
UID:882-1751308200-1751312700@altonvillagehall.org.uk
SUMMARY:Yoga
DESCRIPTION:
URL:https://altonvillagehall.org.uk/event/yoga-20/
LOCATION:Alton Village Hall\, Alton
ORGANIZER;CN="Karen Nicks":MAILTO:karennicks@googlemail.com
END:VEVENT
BEGIN:VEVENT
DTSTART;TZID=UTC:20250630T090000
DTEND;TZID=UTC:20250630T120000
DTSTAMP:20260422T172200
CREATED:20250517T124545Z
LAST-MODIFIED:20250517T124545Z
UID:842-1751274000-1751284800@altonvillagehall.org.uk
SUMMARY:Rehearsal
DESCRIPTION:Rehearsal for St. Peter’s school Summer production
URL:https://altonvillagehall.org.uk/event/rehearsal/
LOCATION:Alton Village Hall\, Alton
ORGANIZER;CN="St. Peter's Academy":MAILTO:office@st-peters-alton.staffs.sch.uk
END:VEVENT
BEGIN:VEVENT
DTSTART;TZID=UTC:20250629T100000
DTEND;TZID=UTC:20250629T133000
DTSTAMP:20260422T172200
CREATED:20250521T205243Z
LAST-MODIFIED:20250521T205243Z
UID:900-1751191200-1751203800@altonvillagehall.org.uk
SUMMARY:Private Event
DESCRIPTION:Children’s Birthday Party \nwith a bouncy castle
URL:https://altonvillagehall.org.uk/event/private-event-16/
LOCATION:Alton Village Hall\, Alton
END:VEVENT
BEGIN:VEVENT
DTSTART;TZID=UTC:20250628T120000
DTEND;TZID=UTC:20250628T170000
DTSTAMP:20260422T172200
CREATED:20250228T110744Z
LAST-MODIFIED:20250228T110744Z
UID:330-1751112000-1751130000@altonvillagehall.org.uk
SUMMARY:Private Event
DESCRIPTION:
URL:https://altonvillagehall.org.uk/event/private-event-10/
END:VEVENT
BEGIN:VEVENT
DTSTART;TZID=UTC:20250626T180000
DTEND;TZID=UTC:20250626T193000
DTSTAMP:20260422T172200
CREATED:20250529T150158Z
LAST-MODIFIED:20250529T150158Z
UID:3186-1750960800-1750966200@altonvillagehall.org.uk
SUMMARY:Alton Brownies/Guides
DESCRIPTION:
URL:https://altonvillagehall.org.uk/event/alton-brownies-guides-4/
LOCATION:Alton Village Hall\, Alton
ORGANIZER;CN="Linda Goodwin":MAILTO:goodwin.linda@btinternet.com
END:VEVENT
BEGIN:VEVENT
DTSTART;TZID=UTC:20250626T164500
DTEND;TZID=UTC:20250626T174500
DTSTAMP:20260422T172200
CREATED:20250529T145453Z
LAST-MODIFIED:20250529T145453Z
UID:3173-1750956300-1750959900@altonvillagehall.org.uk
SUMMARY:Alton Rainbows
DESCRIPTION:
URL:https://altonvillagehall.org.uk/event/alton-rainbows/
LOCATION:Alton Village Hall\, Alton
ORGANIZER;CN="Linda Goodwin":MAILTO:goodwin.linda@btinternet.com
END:VEVENT
BEGIN:VEVENT
DTSTART;TZID=UTC:20250625T093000
DTEND;TZID=UTC:20250625T103000
DTSTAMP:20260422T172200
CREATED:20250604T174408Z
LAST-MODIFIED:20250604T174408Z
UID:5825-1750843800-1750847400@altonvillagehall.org.uk
SUMMARY:Soccer Lions
DESCRIPTION:£6 per child
URL:https://altonvillagehall.org.uk/event/soccer-lions-15/
LOCATION:Alton Village Hall\, Alton
END:VEVENT
BEGIN:VEVENT
DTSTART;TZID=UTC:20250624T170000
DTEND;TZID=UTC:20250624T213000
DTSTAMP:20260422T172200
CREATED:20250528T150027Z
LAST-MODIFIED:20250528T150027Z
UID:2575-1750784400-1750800600@altonvillagehall.org.uk
SUMMARY:Scouts
DESCRIPTION:
URL:https://altonvillagehall.org.uk/event/scouts-21/
LOCATION:Alton Village Hall\, Alton
END:VEVENT
BEGIN:VEVENT
DTSTART;TZID=UTC:20250624T130000
DTEND;TZID=UTC:20250624T150000
DTSTAMP:20260422T172200
CREATED:20250528T145255Z
LAST-MODIFIED:20250528T145255Z
UID:2554-1750770000-1750777200@altonvillagehall.org.uk
SUMMARY:Toddlers
DESCRIPTION:
URL:https://altonvillagehall.org.uk/event/toddlers-18/
LOCATION:Alton Village Hall\, Alton
END:VEVENT
BEGIN:VEVENT
DTSTART;TZID=UTC:20250623T183000
DTEND;TZID=UTC:20250623T194500
DTSTAMP:20260422T172200
CREATED:20250518T210638Z
LAST-MODIFIED:20250518T210638Z
UID:880-1750703400-1750707900@altonvillagehall.org.uk
SUMMARY:Yoga
DESCRIPTION:
URL:https://altonvillagehall.org.uk/event/yoga-19/
LOCATION:Alton Village Hall\, Alton
ORGANIZER;CN="Karen Nicks":MAILTO:karennicks@googlemail.com
END:VEVENT
BEGIN:VEVENT
DTSTART;TZID=UTC:20250620T160000
DTEND;TZID=UTC:20250620T170000
DTSTAMP:20260422T172200
CREATED:20250618T172520Z
LAST-MODIFIED:20250618T172520Z
UID:11359-1750435200-1750438800@altonvillagehall.org.uk
SUMMARY:Alton Castle
DESCRIPTION:Use of playing field for rounders game
URL:https://altonvillagehall.org.uk/event/alton-castle/
LOCATION:Alton Village Hall\, Alton
END:VEVENT
BEGIN:VEVENT
DTSTART;TZID=UTC:20250619T180000
DTEND;TZID=UTC:20250619T193000
DTSTAMP:20260422T172200
CREATED:20250529T145343Z
LAST-MODIFIED:20250529T145343Z
UID:3170-1750356000-1750361400@altonvillagehall.org.uk
SUMMARY:Alton Brownies/Guides
DESCRIPTION:
URL:https://altonvillagehall.org.uk/event/alton-brownies-guides-3/
LOCATION:Alton Village Hall\, Alton
ORGANIZER;CN="Linda Goodwin":MAILTO:goodwin.linda@btinternet.com
END:VEVENT
BEGIN:VEVENT
DTSTART;TZID=UTC:20250619T164500
DTEND;TZID=UTC:20250619T174500
DTSTAMP:20260422T172200
CREATED:20250404T164557Z
LAST-MODIFIED:20250404T164557Z
UID:583-1750351500-1750355100@altonvillagehall.org.uk
SUMMARY:Rainbows
DESCRIPTION:
URL:https://altonvillagehall.org.uk/event/rainbows-16/
LOCATION:Alton Village Hall\, Alton
END:VEVENT
BEGIN:VEVENT
DTSTART;TZID=UTC:20250618T093000
DTEND;TZID=UTC:20250618T103000
DTSTAMP:20260422T172200
CREATED:20250604T174312Z
LAST-MODIFIED:20250604T174312Z
UID:5823-1750239000-1750242600@altonvillagehall.org.uk
SUMMARY:Soccer Lions
DESCRIPTION:£6 per child
URL:https://altonvillagehall.org.uk/event/soccer-lions-14/
LOCATION:Alton Village Hall\, Alton
END:VEVENT
BEGIN:VEVENT
DTSTART;TZID=UTC:20250617T170000
DTEND;TZID=UTC:20250617T213000
DTSTAMP:20260422T172200
CREATED:20250528T145941Z
LAST-MODIFIED:20250528T145941Z
UID:2573-1750179600-1750195800@altonvillagehall.org.uk
SUMMARY:Scouts
DESCRIPTION:
URL:https://altonvillagehall.org.uk/event/scouts-20/
LOCATION:Alton Village Hall\, Alton
END:VEVENT
BEGIN:VEVENT
DTSTART;TZID=UTC:20250617T130000
DTEND;TZID=UTC:20250617T150000
DTSTAMP:20260422T172200
CREATED:20250528T145217Z
LAST-MODIFIED:20250528T145217Z
UID:2552-1750165200-1750172400@altonvillagehall.org.uk
SUMMARY:Toddlers
DESCRIPTION:
URL:https://altonvillagehall.org.uk/event/toddlers-17/
LOCATION:Alton Village Hall\, Alton
END:VEVENT
BEGIN:VEVENT
DTSTART;TZID=UTC:20250616T183000
DTEND;TZID=UTC:20250616T194500
DTSTAMP:20260422T172200
CREATED:20250518T210443Z
LAST-MODIFIED:20250518T210443Z
UID:878-1750098600-1750103100@altonvillagehall.org.uk
SUMMARY:Yoga
DESCRIPTION:
URL:https://altonvillagehall.org.uk/event/yoga-16/
LOCATION:Alton Village Hall\, Alton
END:VEVENT
BEGIN:VEVENT
DTSTART;TZID=UTC:20250614T104500
DTEND;TZID=UTC:20250614T140000
DTSTAMP:20260422T172200
CREATED:20250518T155032Z
LAST-MODIFIED:20250529T145734Z
UID:859-1749897900-1749909600@altonvillagehall.org.uk
SUMMARY:Private Event
DESCRIPTION:4th Birthday Party.
URL:https://altonvillagehall.org.uk/event/private-event-14/
LOCATION:Alton Village Hall\, Alton
END:VEVENT
BEGIN:VEVENT
DTSTART;TZID=UTC:20250612T180000
DTEND;TZID=UTC:20250612T193000
DTSTAMP:20260422T172200
CREATED:20250529T145109Z
LAST-MODIFIED:20250529T145109Z
UID:3166-1749751200-1749756600@altonvillagehall.org.uk
SUMMARY:Alton Brownies/Guides
DESCRIPTION:
URL:https://altonvillagehall.org.uk/event/alton-brownies-guides-2/
LOCATION:Alton Village Hall\, Alton
ORGANIZER;CN="Linda Goodwin":MAILTO:goodwin.linda@btinternet.com
END:VEVENT
BEGIN:VEVENT
DTSTART;TZID=UTC:20250612T163000
DTEND;TZID=UTC:20250612T174500
DTSTAMP:20260422T172200
CREATED:20250404T164424Z
LAST-MODIFIED:20250404T164424Z
UID:581-1749745800-1749750300@altonvillagehall.org.uk
SUMMARY:Rainbows
DESCRIPTION:
URL:https://altonvillagehall.org.uk/event/rainbows-15/
END:VEVENT
BEGIN:VEVENT
DTSTART;TZID=UTC:20250612T103000
DTEND;TZID=UTC:20250612T153000
DTSTAMP:20260422T172200
CREATED:20250228T110603Z
LAST-MODIFIED:20250520T201247Z
UID:328-1749724200-1749742200@altonvillagehall.org.uk
SUMMARY:Private Event
DESCRIPTION:Monster Triathlon Venue \nThe will be used as a water and feeding station for approximately 20 cyclists\, competing in the Triathlon.
URL:https://altonvillagehall.org.uk/event/private-event-9/
LOCATION:Alton Village Hall\, Alton
END:VEVENT
BEGIN:VEVENT
DTSTART;TZID=UTC:20250611T190000
DTEND;TZID=UTC:20250611T210000
DTSTAMP:20260422T172200
CREATED:20250430T072815Z
LAST-MODIFIED:20250430T072815Z
UID:766-1749668400-1749675600@altonvillagehall.org.uk
SUMMARY:Parish Council Meeting
DESCRIPTION:
URL:https://altonvillagehall.org.uk/event/parish-council-meeting-5/
LOCATION:Alton Village Hall\, Alton
END:VEVENT
BEGIN:VEVENT
DTSTART;TZID=UTC:20250611T093000
DTEND;TZID=UTC:20250611T103000
DTSTAMP:20260422T172200
CREATED:20250604T174201Z
LAST-MODIFIED:20250604T174201Z
UID:5821-1749634200-1749637800@altonvillagehall.org.uk
SUMMARY:Soccer Lions
DESCRIPTION:£6 per child
URL:https://altonvillagehall.org.uk/event/soccer-lions-13/
LOCATION:Alton Village Hall\, Alton
END:VEVENT
BEGIN:VEVENT
DTSTART;TZID=UTC:20250610T170000
DTEND;TZID=UTC:20250610T213000
DTSTAMP:20260422T172200
CREATED:20250528T145856Z
LAST-MODIFIED:20250528T145856Z
UID:2571-1749574800-1749591000@altonvillagehall.org.uk
SUMMARY:Scouts
DESCRIPTION:
URL:https://altonvillagehall.org.uk/event/scouts-19/
LOCATION:Alton Village Hall\, Alton
END:VEVENT
END:VCALENDAR