BEGIN:VCALENDAR
VERSION:2.0
PRODID:-//Alton Village Hall - ECPv6.15.20//NONSGML v1.0//EN
CALSCALE:GREGORIAN
METHOD:PUBLISH
X-WR-CALNAME:Alton Village Hall
X-ORIGINAL-URL:https://altonvillagehall.org.uk
X-WR-CALDESC:Events for Alton Village Hall
REFRESH-INTERVAL;VALUE=DURATION:PT1H
X-Robots-Tag:noindex
X-PUBLISHED-TTL:PT1H
BEGIN:VTIMEZONE
TZID:UTC
BEGIN:STANDARD
TZOFFSETFROM:+0000
TZOFFSETTO:+0000
TZNAME:UTC
DTSTART:20240101T000000
END:STANDARD
END:VTIMEZONE
BEGIN:VEVENT
DTSTART;TZID=UTC:20250728T183000
DTEND;TZID=UTC:20250728T194500
DTSTAMP:20260422T132659
CREATED:20250528T144231Z
LAST-MODIFIED:20250528T144231Z
UID:2536-1753727400-1753731900@altonvillagehall.org.uk
SUMMARY:Yoga
DESCRIPTION:
URL:https://altonvillagehall.org.uk/event/yoga-24/
LOCATION:Alton Village Hall\, Alton
END:VEVENT
BEGIN:VEVENT
DTSTART;TZID=UTC:20250725T160000
DTEND;TZID=UTC:20250727T160000
DTSTAMP:20260422T132659
CREATED:20250228T111356Z
LAST-MODIFIED:20250228T111619Z
UID:334-1753459200-1753632000@altonvillagehall.org.uk
SUMMARY:Private Event
DESCRIPTION:
URL:https://altonvillagehall.org.uk/event/private-event-12/
END:VEVENT
BEGIN:VEVENT
DTSTART;TZID=UTC:20250723T180000
DTEND;TZID=UTC:20250723T200000
DTSTAMP:20260422T132659
CREATED:20250528T140633Z
LAST-MODIFIED:20250528T140633Z
UID:2501-1753293600-1753300800@altonvillagehall.org.uk
SUMMARY:Alton Handbells
DESCRIPTION:
URL:https://altonvillagehall.org.uk/event/alton-handbells-3/
LOCATION:Alton Village Hall\, Alton
END:VEVENT
BEGIN:VEVENT
DTSTART;TZID=UTC:20250721T183000
DTEND;TZID=UTC:20250721T194500
DTSTAMP:20260422T132659
CREATED:20250528T144113Z
LAST-MODIFIED:20250528T144113Z
UID:2534-1753122600-1753127100@altonvillagehall.org.uk
SUMMARY:Yoga
DESCRIPTION:
URL:https://altonvillagehall.org.uk/event/yoga-23/
LOCATION:Alton Village Hall\, Alton
END:VEVENT
BEGIN:VEVENT
DTSTART;TZID=UTC:20250720T120000
DTEND;TZID=UTC:20250720T160000
DTSTAMP:20260422T132659
CREATED:20250716T110311Z
LAST-MODIFIED:20250716T110311Z
UID:14743-1753012800-1753027200@altonvillagehall.org.uk
SUMMARY:Private Hire
DESCRIPTION:1st Birthday Party \nwith bouncy castle \nbooked by Selina
URL:https://altonvillagehall.org.uk/event/private-hire-2/
END:VEVENT
BEGIN:VEVENT
DTSTART;TZID=UTC:20250719T100000
DTEND;TZID=UTC:20250719T140000
DTSTAMP:20260422T132659
CREATED:20250504T063643Z
LAST-MODIFIED:20250508T151154Z
UID:776-1752919200-1752933600@altonvillagehall.org.uk
SUMMARY:Private Hire
DESCRIPTION:Chloe Pearce \nChildren’s 4th Birthday Party \nBouncy Castle \n 
URL:https://altonvillagehall.org.uk/event/private-hire/
LOCATION:Alton Village Hall\, Alton
END:VEVENT
BEGIN:VEVENT
DTSTART;TZID=UTC:20250716T180000
DTEND;TZID=UTC:20250716T200000
DTSTAMP:20260422T132659
CREATED:20250528T140348Z
LAST-MODIFIED:20250528T140348Z
UID:2495-1752688800-1752696000@altonvillagehall.org.uk
SUMMARY:Alton Handbells
DESCRIPTION:
URL:https://altonvillagehall.org.uk/event/alton-handbells-2/
LOCATION:Alton Village Hall\, Alton
END:VEVENT
BEGIN:VEVENT
DTSTART;TZID=UTC:20250716T093000
DTEND;TZID=UTC:20250716T103000
DTSTAMP:20260422T132659
CREATED:20250604T174724Z
LAST-MODIFIED:20250604T174724Z
UID:5832-1752658200-1752661800@altonvillagehall.org.uk
SUMMARY:Soccer Lions
DESCRIPTION:£6 per child
URL:https://altonvillagehall.org.uk/event/soccer-lions-18/
LOCATION:Alton Village Hall\, Alton
END:VEVENT
BEGIN:VEVENT
DTSTART;TZID=UTC:20250715T170000
DTEND;TZID=UTC:20250715T213000
DTSTAMP:20260422T132659
CREATED:20250528T150227Z
LAST-MODIFIED:20250528T150227Z
UID:2581-1752598800-1752615000@altonvillagehall.org.uk
SUMMARY:Scouts
DESCRIPTION:
URL:https://altonvillagehall.org.uk/event/scouts-24/
LOCATION:Alton Village Hall\, Alton
END:VEVENT
BEGIN:VEVENT
DTSTART;TZID=UTC:20250715T130000
DTEND;TZID=UTC:20250715T150000
DTSTAMP:20260422T132659
CREATED:20250528T145450Z
LAST-MODIFIED:20250528T145450Z
UID:2562-1752584400-1752591600@altonvillagehall.org.uk
SUMMARY:Toddlers
DESCRIPTION:
URL:https://altonvillagehall.org.uk/event/toddlers-21/
LOCATION:Alton Village Hall\, Alton
END:VEVENT
BEGIN:VEVENT
DTSTART;TZID=UTC:20250713T140000
DTEND;TZID=UTC:20250713T180000
DTSTAMP:20260422T132659
CREATED:20250712T180454Z
LAST-MODIFIED:20250712T180454Z
UID:14035-1752415200-1752429600@altonvillagehall.org.uk
SUMMARY:Baptism Party
DESCRIPTION:booked by Emily Hall \nBouncy Castle \n60 guests
URL:https://altonvillagehall.org.uk/event/baptism-party/
LOCATION:Alton Village Hall\, Alton
END:VEVENT
BEGIN:VEVENT
DTSTART;TZID=UTC:20250713T110000
DTEND;TZID=UTC:20250713T140000
DTSTAMP:20260422T132659
CREATED:20250228T110941Z
LAST-MODIFIED:20250228T110941Z
UID:332-1752404400-1752415200@altonvillagehall.org.uk
SUMMARY:Private Event
DESCRIPTION:
URL:https://altonvillagehall.org.uk/event/private-event-11/
END:VEVENT
BEGIN:VEVENT
DTSTART;TZID=UTC:20250711T160000
DTEND;TZID=UTC:20250711T180000
DTSTAMP:20260422T132659
CREATED:20250619T112101Z
LAST-MODIFIED:20250619T112101Z
UID:11613-1752249600-1752256800@altonvillagehall.org.uk
SUMMARY:St Peter's Academy Summer Production
DESCRIPTION:
URL:https://altonvillagehall.org.uk/event/st-peters-academy-summer-production-2/
LOCATION:Alton Village Hall\, Alton
ORGANIZER;CN="St. Peter's Academy":MAILTO:office@st-peters-alton.staffs.sch.uk
END:VEVENT
BEGIN:VEVENT
DTSTART;TZID=UTC:20250710T180000
DTEND;TZID=UTC:20250710T193000
DTSTAMP:20260422T132659
CREATED:20250619T112257Z
LAST-MODIFIED:20250619T112257Z
UID:11616-1752170400-1752175800@altonvillagehall.org.uk
SUMMARY:Alton Brownies/Guides
DESCRIPTION:
URL:https://altonvillagehall.org.uk/event/alton-brownies-guides-6/
LOCATION:Alton Village Hall\, Alton
ORGANIZER;CN="Linda Goodwin":MAILTO:goodwin.linda@btinternet.com
END:VEVENT
BEGIN:VEVENT
DTSTART;TZID=UTC:20250710T140000
DTEND;TZID=UTC:20250710T150000
DTSTAMP:20260422T132659
CREATED:20250517T125758Z
LAST-MODIFIED:20250517T125758Z
UID:850-1752156000-1752159600@altonvillagehall.org.uk
SUMMARY:St. Peter's Academy - Summer production
DESCRIPTION:
URL:https://altonvillagehall.org.uk/event/st-peters-academy-summer-production/
LOCATION:Alton Village Hall\, Alton
ORGANIZER;CN="St. Peter's Academy":MAILTO:office@st-peters-alton.staffs.sch.uk
END:VEVENT
BEGIN:VEVENT
DTSTART;TZID=UTC:20250709T190000
DTEND;TZID=UTC:20250709T210000
DTSTAMP:20260422T132659
CREATED:20250528T151301Z
LAST-MODIFIED:20250528T151301Z
UID:2603-1752087600-1752094800@altonvillagehall.org.uk
SUMMARY:Parish Council Meeting
DESCRIPTION:
URL:https://altonvillagehall.org.uk/event/parish-council-meeting-6/
LOCATION:Alton Village Hall\, Alton
END:VEVENT
BEGIN:VEVENT
DTSTART;TZID=UTC:20250709T143000
DTEND;TZID=UTC:20250709T163000
DTSTAMP:20260422T132659
CREATED:20250528T140002Z
LAST-MODIFIED:20250528T140002Z
UID:2492-1752071400-1752078600@altonvillagehall.org.uk
SUMMARY:Alton Handbells
DESCRIPTION:
URL:https://altonvillagehall.org.uk/event/alton-handbells/
LOCATION:Alton Village Hall\, Alton
END:VEVENT
BEGIN:VEVENT
DTSTART;TZID=UTC:20250709T093000
DTEND;TZID=UTC:20250709T103000
DTSTAMP:20260422T132659
CREATED:20250604T174622Z
LAST-MODIFIED:20250604T174622Z
UID:5830-1752053400-1752057000@altonvillagehall.org.uk
SUMMARY:Soccer Lions
DESCRIPTION:£6 per child
URL:https://altonvillagehall.org.uk/event/soccer-lions-17/
LOCATION:Alton Village Hall\, Alton
END:VEVENT
BEGIN:VEVENT
DTSTART;TZID=UTC:20250708T170000
DTEND;TZID=UTC:20250708T213000
DTSTAMP:20260422T132659
CREATED:20250528T150148Z
LAST-MODIFIED:20250528T150148Z
UID:2579-1751994000-1752010200@altonvillagehall.org.uk
SUMMARY:Scouts
DESCRIPTION:
URL:https://altonvillagehall.org.uk/event/scouts-23/
LOCATION:Alton Village Hall\, Alton
END:VEVENT
BEGIN:VEVENT
DTSTART;TZID=UTC:20250708T130000
DTEND;TZID=UTC:20250708T150000
DTSTAMP:20260422T132700
CREATED:20250528T145411Z
LAST-MODIFIED:20250528T145411Z
UID:2559-1751979600-1751986800@altonvillagehall.org.uk
SUMMARY:Toddlers
DESCRIPTION:
URL:https://altonvillagehall.org.uk/event/toddlers-20/
LOCATION:Alton Village Hall\, Alton
END:VEVENT
BEGIN:VEVENT
DTSTART;TZID=UTC:20250707T183000
DTEND;TZID=UTC:20250707T194500
DTSTAMP:20260422T132700
CREATED:20250528T143909Z
LAST-MODIFIED:20250528T143909Z
UID:2523-1751913000-1751917500@altonvillagehall.org.uk
SUMMARY:Yoga
DESCRIPTION:
URL:https://altonvillagehall.org.uk/event/yoga-21/
LOCATION:Alton Village Hall\, Alton
END:VEVENT
BEGIN:VEVENT
DTSTART;TZID=UTC:20250707T090000
DTEND;TZID=UTC:20250707T150000
DTSTAMP:20260422T132700
CREATED:20250517T125211Z
LAST-MODIFIED:20250704T142507Z
UID:848-1751878800-1751900400@altonvillagehall.org.uk
SUMMARY:Rehearsal
DESCRIPTION:St. Peter’s Academy – rehearsal for Summer production
URL:https://altonvillagehall.org.uk/event/rehearsal-3/
LOCATION:Alton Village Hall\, Alton
ORGANIZER;CN="St. Peter's Academy":MAILTO:office@st-peters-alton.staffs.sch.uk
END:VEVENT
BEGIN:VEVENT
DTSTART;TZID=UTC:20250706T180000
DTEND;TZID=UTC:20250706T210000
DTSTAMP:20260422T132700
CREATED:20250614T004717Z
LAST-MODIFIED:20250614T004717Z
UID:9473-1751824800-1751835600@altonvillagehall.org.uk
SUMMARY:Baby Shower
DESCRIPTION:Fraya Syrad \nBar required
URL:https://altonvillagehall.org.uk/event/baby-shower/
LOCATION:Alton Village Hall\, Alton
END:VEVENT
BEGIN:VEVENT
DTSTART;TZID=UTC:20250704T090000
DTEND;TZID=UTC:20250704T120000
DTSTAMP:20260422T132700
CREATED:20250517T124929Z
LAST-MODIFIED:20250517T124929Z
UID:846-1751619600-1751630400@altonvillagehall.org.uk
SUMMARY:Rehearsal
DESCRIPTION:St. Peter’s Academy rehearsal for Summer production
URL:https://altonvillagehall.org.uk/event/rehearsal-2/
LOCATION:Alton Village Hall\, Alton
ORGANIZER;CN="St. Peter's Academy":MAILTO:office@st-peters-alton.staffs.sch.uk
END:VEVENT
BEGIN:VEVENT
DTSTART;TZID=UTC:20250703T164500
DTEND;TZID=UTC:20250703T174500
DTSTAMP:20260422T132700
CREATED:20250529T145652Z
LAST-MODIFIED:20250529T145652Z
UID:3177-1751561100-1751564700@altonvillagehall.org.uk
SUMMARY:Alton Rainbows
DESCRIPTION:
URL:https://altonvillagehall.org.uk/event/alton-rainbows-2/
LOCATION:Alton Village Hall\, Alton
ORGANIZER;CN="Linda Goodwin":MAILTO:goodwin.linda@btinternet.com
END:VEVENT
BEGIN:VEVENT
DTSTART;TZID=UTC:20250702T180000
DTEND;TZID=UTC:20250702T200000
DTSTAMP:20260422T132700
CREATED:20250518T205034Z
LAST-MODIFIED:20250518T205034Z
UID:870-1751479200-1751486400@altonvillagehall.org.uk
SUMMARY:Alton Handbell Ringers
DESCRIPTION:
URL:https://altonvillagehall.org.uk/event/alton-handbell-ringers-14/
END:VEVENT
BEGIN:VEVENT
DTSTART;TZID=UTC:20250702T140000
DTEND;TZID=UTC:20250702T160000
DTSTAMP:20260422T132700
CREATED:20250528T150625Z
LAST-MODIFIED:20250528T150625Z
UID:2587-1751464800-1751472000@altonvillagehall.org.uk
SUMMARY:WI
DESCRIPTION:
URL:https://altonvillagehall.org.uk/event/wi-3/
LOCATION:Alton Village Hall\, Alton
END:VEVENT
BEGIN:VEVENT
DTSTART;TZID=UTC:20250702T093000
DTEND;TZID=UTC:20250702T103000
DTSTAMP:20260422T132700
CREATED:20250604T174531Z
LAST-MODIFIED:20250604T174531Z
UID:5827-1751448600-1751452200@altonvillagehall.org.uk
SUMMARY:Soccer Lions
DESCRIPTION:£6 per child
URL:https://altonvillagehall.org.uk/event/soccer-lions-16/
LOCATION:Alton Village Hall\, Alton
END:VEVENT
BEGIN:VEVENT
DTSTART;TZID=UTC:20250701T170000
DTEND;TZID=UTC:20250701T213000
DTSTAMP:20260422T132700
CREATED:20250528T150110Z
LAST-MODIFIED:20250528T150110Z
UID:2577-1751389200-1751405400@altonvillagehall.org.uk
SUMMARY:Scouts
DESCRIPTION:
URL:https://altonvillagehall.org.uk/event/scouts-22/
LOCATION:Alton Village Hall\, Alton
END:VEVENT
BEGIN:VEVENT
DTSTART;TZID=UTC:20250701T130000
DTEND;TZID=UTC:20250701T150000
DTSTAMP:20260422T132700
CREATED:20250528T145333Z
LAST-MODIFIED:20250528T145333Z
UID:2556-1751374800-1751382000@altonvillagehall.org.uk
SUMMARY:Toddlers
DESCRIPTION:
URL:https://altonvillagehall.org.uk/event/toddlers-19/
LOCATION:Alton Village Hall\, Alton
END:VEVENT
END:VCALENDAR